BEGIN:VCALENDAR
VERSION:2.0
PRODID:icalendar-ruby
CALSCALE:GREGORIAN
METHOD:PUBLISH
BEGIN:VEVENT
DTSTAMP:20260424T012045Z
UID:36-610218@ashlandfirstumc.org
DTSTART:20261007T230000Z
DTEND:20261008T000000Z
CLASS:PUBLIC
CREATED:20260423T201346
DESCRIPTION:
LAST-MODIFIED:20260423T201346
LOCATION:
SUMMARY:Choir Rehearsal
URL;VALUE=URI:https://ashlandfirstumc.org/events/choir-rehearsal/2026-10-07
END:VEVENT
END:VCALENDAR
