BEGIN:VCALENDAR
VERSION:2.0
PRODID:icalendar-ruby
CALSCALE:GREGORIAN
METHOD:PUBLISH
BEGIN:VEVENT
DTSTAMP:20260424T024146Z
UID:36-610219@ashlandfirstumc.org
DTSTART:20261014T230000Z
DTEND:20261015T000000Z
CLASS:PUBLIC
CREATED:20260423T201346
DESCRIPTION:
LAST-MODIFIED:20260423T201346
LOCATION:
SUMMARY:Choir Rehearsal
URL;VALUE=URI:https://ashlandfirstumc.org/events/choir-rehearsal/2026-10-14
END:VEVENT
END:VCALENDAR
