BEGIN:VCALENDAR
VERSION:2.0
PRODID:icalendar-ruby
CALSCALE:GREGORIAN
METHOD:PUBLISH
BEGIN:VEVENT
DTSTAMP:20260424T040759Z
UID:36-610796@ashlandfirstumc.org
DTSTART:20261021T230000Z
DTEND:20261022T000000Z
CLASS:PUBLIC
CREATED:20260423T230818
DESCRIPTION:
LAST-MODIFIED:20260423T230818
LOCATION:
SUMMARY:Choir Rehearsal
URL;VALUE=URI:https://ashlandfirstumc.org/events/choir-rehearsal/2026-10-21
END:VEVENT
END:VCALENDAR
