BEGIN:VCALENDAR
VERSION:2.0
PRODID:icalendar-ruby
CALSCALE:GREGORIAN
METHOD:PUBLISH
BEGIN:VEVENT
DTSTAMP:20260424T053833Z
UID:36-610797@ashlandfirstumc.org
DTSTART:20261028T230000Z
DTEND:20261029T000000Z
CLASS:PUBLIC
CREATED:20260423T230818
DESCRIPTION:
LAST-MODIFIED:20260423T230818
LOCATION:
SUMMARY:Choir Rehearsal
URL;VALUE=URI:https://ashlandfirstumc.org/events/choir-rehearsal/2026-10-28
END:VEVENT
END:VCALENDAR
