BEGIN:VCALENDAR
VERSION:2.0
PRODID:icalendar-ruby
CALSCALE:GREGORIAN
METHOD:PUBLISH
BEGIN:VEVENT
DTSTAMP:20260424T064805Z
UID:36-610798@ashlandfirstumc.org
DTSTART:20261105T000000Z
DTEND:20261105T010000Z
CLASS:PUBLIC
CREATED:20260423T230818
DESCRIPTION:
LAST-MODIFIED:20260423T230818
LOCATION:
SUMMARY:Choir Rehearsal
URL;VALUE=URI:https://ashlandfirstumc.org/events/choir-rehearsal/2026-11-04
END:VEVENT
END:VCALENDAR
