BEGIN:VCALENDAR
VERSION:2.0
PRODID:icalendar-ruby
CALSCALE:GREGORIAN
METHOD:PUBLISH
BEGIN:VEVENT
DTSTAMP:20260423T195545Z
UID:11-608710@ashlandfirstumc.org
DTSTART:20260923T170000Z
DTEND:20260923T190000Z
CLASS:PUBLIC
CREATED:20260423T142553
DESCRIPTION:
LAST-MODIFIED:20260423T142553
LOCATION:The Activity Center/ The Chip
SUMMARY:Food Pantry
URL;VALUE=URI:https://ashlandfirstumc.org/events/food-pantry--11/2026-09-23
END:VEVENT
END:VCALENDAR
