BEGIN:VCALENDAR
VERSION:2.0
PRODID:icalendar-ruby
CALSCALE:GREGORIAN
METHOD:PUBLISH
BEGIN:VEVENT
DTSTAMP:20260423T225110Z
UID:11-609288@ashlandfirstumc.org
DTSTART:20261007T170000Z
DTEND:20261007T190000Z
CLASS:PUBLIC
CREATED:20260423T172030
DESCRIPTION:
LAST-MODIFIED:20260423T172030
LOCATION:The Activity Center/ The Chip
SUMMARY:Food Pantry
URL;VALUE=URI:https://ashlandfirstumc.org/events/food-pantry--11/2026-10-07
END:VEVENT
END:VCALENDAR
