BEGIN:VCALENDAR
VERSION:2.0
PRODID:icalendar-ruby
CALSCALE:GREGORIAN
METHOD:PUBLISH
BEGIN:VEVENT
DTSTAMP:20260424T003310Z
UID:11-609865@ashlandfirstumc.org
DTSTART:20261014T170000Z
DTEND:20261014T190000Z
CLASS:PUBLIC
CREATED:20260423T201345
DESCRIPTION:
LAST-MODIFIED:20260423T201345
LOCATION:The Activity Center/ The Chip
SUMMARY:Food Pantry
URL;VALUE=URI:https://ashlandfirstumc.org/events/food-pantry--11/2026-10-14
END:VEVENT
END:VCALENDAR
