BEGIN:VCALENDAR
VERSION:2.0
PRODID:icalendar-ruby
CALSCALE:GREGORIAN
METHOD:PUBLISH
BEGIN:VEVENT
DTSTAMP:20260424T044402Z
UID:11-610444@ashlandfirstumc.org
DTSTART:20261104T180000Z
DTEND:20261104T200000Z
CLASS:PUBLIC
CREATED:20260423T230817
DESCRIPTION:
LAST-MODIFIED:20260423T230817
LOCATION:The Activity Center/ The Chip
SUMMARY:Food Pantry
URL;VALUE=URI:https://ashlandfirstumc.org/events/food-pantry--11/2026-11-04
END:VEVENT
END:VCALENDAR
